Package: rWikiPathways Version: 1.29.0 Command: /home/biocbuild/bbs-3.22-bioc/R/bin/R CMD check --install=check:rWikiPathways.install-out.txt --library=/home/biocbuild/bbs-3.22-bioc/R/site-library --timings rWikiPathways_1.29.0.tar.gz StartedAt: 2025-07-16 01:58:15 -0400 (Wed, 16 Jul 2025) EndedAt: 2025-07-16 02:00:18 -0400 (Wed, 16 Jul 2025) EllapsedTime: 123.1 seconds RetCode: 0 Status: OK CheckDir: rWikiPathways.Rcheck Warnings: 0