Package: rTRMui Version: 1.47.0 Command: /home/biocbuild/R/R/bin/R CMD INSTALL rTRMui StartedAt: 2025-06-30 21:26:26 -0000 (Mon, 30 Jun 2025) EndedAt: 2025-06-30 21:27:32 -0000 (Mon, 30 Jun 2025) EllapsedTime: 66.4 seconds RetCode: 0 Status: OK