Package: rTRMui Version: 1.47.0 Command: /home/biocbuild/R/R/bin/R CMD build --keep-empty-dirs --no-resave-data rTRMui StartedAt: 2025-07-01 02:29:40 -0000 (Tue, 01 Jul 2025) EndedAt: 2025-07-01 02:31:08 -0000 (Tue, 01 Jul 2025) EllapsedTime: 88.1 seconds RetCode: 0 Status: OK PackageFile: rTRMui_1.47.0.tar.gz PackageFileSize: 1.106 MiB