Package: rScudo Version: 1.25.0 Command: chmod a+r rScudo -R && F:\biocbuild\bbs-3.22-bioc\R\bin\R.exe CMD build --keep-empty-dirs --no-resave-data rScudo StartedAt: 2025-07-24 21:58:15 -0400 (Thu, 24 Jul 2025) EndedAt: 2025-07-24 22:00:43 -0400 (Thu, 24 Jul 2025) EllapsedTime: 147.7 seconds RetCode: 0 Status: OK PackageFile: rScudo_1.25.0.tar.gz PackageFileSize: 388 KiB