Package: rSWeeP Version: 1.21.0 Command: /Library/Frameworks/R.framework/Resources/bin/R CMD check --install=check:rSWeeP.install-out.txt --library=/Library/Frameworks/R.framework/Resources/library --no-vignettes --timings rSWeeP_1.21.0.tar.gz StartedAt: 2025-07-11 23:16:02 -0400 (Fri, 11 Jul 2025) EndedAt: 2025-07-11 23:18:02 -0400 (Fri, 11 Jul 2025) EllapsedTime: 120.6 seconds RetCode: 0 Status: OK CheckDir: rSWeeP.Rcheck Warnings: 0