Package: rSWeeP Version: 1.21.0 Command: /Library/Frameworks/R.framework/Resources/bin/R CMD build --keep-empty-dirs --no-resave-data rSWeeP StartedAt: 2025-07-11 18:17:57 -0400 (Fri, 11 Jul 2025) EndedAt: 2025-07-11 18:18:24 -0400 (Fri, 11 Jul 2025) EllapsedTime: 27.5 seconds RetCode: 0 Status: OK PackageFile: rSWeeP_1.21.0.tar.gz PackageFileSize: 358.7 KiB