Package: rSWeeP Version: 1.21.0 Command: /Library/Frameworks/R.framework/Resources/bin/R CMD INSTALL rSWeeP StartedAt: 2025-07-20 15:08:15 -0400 (Sun, 20 Jul 2025) EndedAt: 2025-07-20 15:08:19 -0400 (Sun, 20 Jul 2025) EllapsedTime: 4.3 seconds RetCode: 0 Status: OK