Package: rSWeeP Version: 1.21.0 Maintainer: Camila P Perico MaintainerEmail: camilapp94 at gmail.com git_url: https://git.bioconductor.org/packages/rSWeeP git_branch: devel git_last_commit: f010c7b git_last_commit_date: 2025-04-15 11:53:37 -0400 (Tue, 15 Apr 2025)