Package: rGREAT Version: 2.11.0 Command: /home/biocbuild/R/R/bin/R CMD build --keep-empty-dirs --no-resave-data rGREAT StartedAt: 2025-07-11 03:22:05 -0000 (Fri, 11 Jul 2025) EndedAt: 2025-07-11 03:23:04 -0000 (Fri, 11 Jul 2025) EllapsedTime: 59.0 seconds RetCode: 0 Status: OK PackageFile: rGREAT_2.11.0.tar.gz PackageFileSize: 2.754 MiB