Package: rGREAT Version: 2.11.0 Command: /home/biocbuild/bbs-3.22-bioc/R/bin/R CMD check --install=check:rGREAT.install-out.txt --library=/home/biocbuild/bbs-3.22-bioc/R/site-library --timings rGREAT_2.11.0.tar.gz StartedAt: 2025-07-16 01:40:59 -0400 (Wed, 16 Jul 2025) EndedAt: 2025-07-16 01:45:57 -0400 (Wed, 16 Jul 2025) EllapsedTime: 298.4 seconds RetCode: 0 Status: OK CheckDir: rGREAT.Rcheck Warnings: 0