Package: rGADEM Version: 2.57.0 Command: /Library/Frameworks/R.framework/Resources/bin/R CMD INSTALL rGADEM StartedAt: 2025-06-30 15:16:25 -0400 (Mon, 30 Jun 2025) EndedAt: 2025-06-30 15:16:45 -0400 (Mon, 30 Jun 2025) EllapsedTime: 19.1 seconds RetCode: 0 Status: OK