Package: rGADEM Version: 2.57.0 Command: /Library/Frameworks/R.framework/Resources/bin/R CMD build --keep-empty-dirs --no-resave-data rGADEM StartedAt: 2025-06-29 17:22:05 -0400 (Sun, 29 Jun 2025) EndedAt: 2025-06-29 17:22:35 -0400 (Sun, 29 Jun 2025) EllapsedTime: 29.3 seconds RetCode: 0 Status: OK PackageFile: rGADEM_2.57.0.tar.gz PackageFileSize: 376.6 KiB