Package: rGADEM Version: 2.57.0 Command: rm -rf rGADEM.buildbin-libdir && mkdir rGADEM.buildbin-libdir && /Users/biocbuild/BBS/utils/build-universal.sh rGADEM_2.57.0.tar.gz /Library/Frameworks/R.framework/Resources/bin/R rGADEM.buildbin-libdir StartedAt: 2025-06-30 22:26:28 -0400 (Mon, 30 Jun 2025) EndedAt: 2025-06-30 22:26:50 -0400 (Mon, 30 Jun 2025) EllapsedTime: 22.4 seconds RetCode: 0 Status: OK PackageFile: rGADEM_2.57.0.tgz PackageFileSize: 679.9 KiB