Package: rCGH Version: 1.39.1 Command: /home/biocbuild/R/R/bin/R CMD build --keep-empty-dirs --no-resave-data rCGH StartedAt: 2025-10-03 02:28:07 -0000 (Fri, 03 Oct 2025) EndedAt: 2025-10-03 02:29:59 -0000 (Fri, 03 Oct 2025) EllapsedTime: 112.0 seconds RetCode: 0 Status: OK PackageFile: rCGH_1.39.1.tar.gz PackageFileSize: 3.693 MiB