Package: rCGH Version: 1.39.0 Command: chmod a+r rCGH -R && F:\biocbuild\bbs-3.22-bioc\R\bin\R.exe CMD build --keep-empty-dirs --no-resave-data rCGH StartedAt: 2025-07-20 21:28:58 -0400 (Sun, 20 Jul 2025) EndedAt: 2025-07-20 21:31:30 -0400 (Sun, 20 Jul 2025) EllapsedTime: 151.8 seconds RetCode: 0 Status: OK PackageFile: rCGH_1.39.0.tar.gz PackageFileSize: 3.741 MiB