Package: rCGH Version: 1.39.0 Command: rm -rf rCGH.buildbin-libdir && mkdir rCGH.buildbin-libdir && F:\biocbuild\bbs-3.22-bioc\R\bin\R.exe CMD INSTALL --build --library=rCGH.buildbin-libdir rCGH_1.39.0.tar.gz StartedAt: 2025-07-21 09:49:01 -0400 (Mon, 21 Jul 2025) EndedAt: 2025-07-21 09:50:40 -0400 (Mon, 21 Jul 2025) EllapsedTime: 99.0 seconds RetCode: 0 Status: OK PackageFile: rCGH_1.39.0.zip PackageFileSize: 4.776 MiB