Package: rBiopaxParser Version: 2.49.0 Command: /home/biocbuild/R/R/bin/R CMD check --install=check:rBiopaxParser.install-out.txt --library=/home/biocbuild/R/R/site-library --no-vignettes --timings rBiopaxParser_2.49.0.tar.gz StartedAt: 2025-07-15 10:55:56 -0000 (Tue, 15 Jul 2025) EndedAt: 2025-07-15 10:56:47 -0000 (Tue, 15 Jul 2025) EllapsedTime: 51.1 seconds RetCode: 0 Status: OK CheckDir: rBiopaxParser.Rcheck Warnings: 0