Package: rBiopaxParser Version: 2.49.0 Command: chmod a+r rBiopaxParser -R && F:\biocbuild\bbs-3.22-bioc\R\bin\R.exe CMD build --keep-empty-dirs --no-resave-data rBiopaxParser StartedAt: 2025-07-20 21:27:47 -0400 (Sun, 20 Jul 2025) EndedAt: 2025-07-20 21:28:09 -0400 (Sun, 20 Jul 2025) EllapsedTime: 22.0 seconds RetCode: 0 Status: OK PackageFile: rBiopaxParser_2.49.0.tar.gz PackageFileSize: 769.4 KiB