Package: qvalue Version: 2.41.0 Command: chmod a+r qvalue -R && F:\biocbuild\bbs-3.22-bioc\R\bin\R.exe CMD build --keep-empty-dirs --no-resave-data qvalue StartedAt: 2025-07-21 21:28:42 -0400 (Mon, 21 Jul 2025) EndedAt: 2025-07-21 21:29:04 -0400 (Mon, 21 Jul 2025) EllapsedTime: 22.1 seconds RetCode: 0 Status: OK PackageFile: qvalue_2.41.0.tar.gz PackageFileSize: 2.64 MiB