Package: qvalue Version: 2.41.0 Command: rm -rf qvalue.buildbin-libdir && mkdir qvalue.buildbin-libdir && F:\biocbuild\bbs-3.22-bioc\R\bin\R.exe CMD INSTALL --build --library=qvalue.buildbin-libdir qvalue_2.41.0.tar.gz StartedAt: 2025-07-22 09:51:53 -0400 (Tue, 22 Jul 2025) EndedAt: 2025-07-22 09:52:03 -0400 (Tue, 22 Jul 2025) EllapsedTime: 10.0 seconds RetCode: 0 Status: OK PackageFile: qvalue_2.41.0.zip PackageFileSize: 2.681 MiB