Package: qvalue Version: 2.41.0 Command: /Library/Frameworks/R.framework/Resources/bin/R CMD INSTALL qvalue StartedAt: 2025-07-14 15:04:45 -0400 (Mon, 14 Jul 2025) EndedAt: 2025-07-14 15:04:51 -0400 (Mon, 14 Jul 2025) EllapsedTime: 5.6 seconds RetCode: 0 Status: OK