Package: qusage Version: 2.43.0 Command: rm -rf qusage.buildbin-libdir && mkdir qusage.buildbin-libdir && F:\biocbuild\bbs-3.22-bioc\R\bin\R.exe CMD INSTALL --build --library=qusage.buildbin-libdir qusage_2.43.0.tar.gz StartedAt: 2025-07-25 10:01:25 -0400 (Fri, 25 Jul 2025) EndedAt: 2025-07-25 10:01:49 -0400 (Fri, 25 Jul 2025) EllapsedTime: 24.5 seconds RetCode: 0 Status: OK PackageFile: qusage_2.43.0.zip PackageFileSize: 9.663 MiB