Package: qusage Version: 2.43.0 Command: /home/biocbuild/bbs-3.22-bioc/R/bin/R CMD check --install=check:qusage.install-out.txt --library=/home/biocbuild/bbs-3.22-bioc/R/site-library --timings qusage_2.43.0.tar.gz StartedAt: 2025-07-02 01:30:58 -0400 (Wed, 02 Jul 2025) EndedAt: 2025-07-02 01:37:06 -0400 (Wed, 02 Jul 2025) EllapsedTime: 367.5 seconds RetCode: 0 Status: OK CheckDir: qusage.Rcheck Warnings: 0