Package: qusage Version: 2.43.0 Command: /home/biocbuild/bbs-3.22-bioc/R/bin/R CMD build --keep-empty-dirs --no-resave-data --md5 qusage StartedAt: 2025-07-01 18:42:53 -0400 (Tue, 01 Jul 2025) EndedAt: 2025-07-01 18:47:55 -0400 (Tue, 01 Jul 2025) EllapsedTime: 301.4 seconds RetCode: 0 Status: OK PackageFile: qusage_2.43.0.tar.gz PackageFileSize: 9.649 MiB