Package: quantsmooth Version: 1.75.0 Command: F:\biocbuild\bbs-3.22-bioc\R\bin\R.exe CMD INSTALL quantsmooth StartedAt: 2025-07-07 15:22:37 -0400 (Mon, 07 Jul 2025) EndedAt: 2025-07-07 15:23:02 -0400 (Mon, 07 Jul 2025) EllapsedTime: 25.2 seconds RetCode: 0 Status: OK