Package: quantro Version: 1.43.0 Command: /home/biocbuild/R/R/bin/R CMD check --install=check:quantro.install-out.txt --library=/home/biocbuild/R/R/site-library --no-vignettes --timings quantro_1.43.0.tar.gz StartedAt: 2025-07-22 10:41:24 -0000 (Tue, 22 Jul 2025) EndedAt: 2025-07-22 10:48:16 -0000 (Tue, 22 Jul 2025) EllapsedTime: 411.6 seconds RetCode: 0 Status: OK CheckDir: quantro.Rcheck Warnings: 0