Package: quantro Version: 1.43.0 Command: /home/biocbuild/R/R/bin/R CMD build --keep-empty-dirs --no-resave-data quantro StartedAt: 2025-07-18 02:13:38 -0000 (Fri, 18 Jul 2025) EndedAt: 2025-07-18 02:16:10 -0000 (Fri, 18 Jul 2025) EllapsedTime: 152.1 seconds RetCode: 0 Status: OK PackageFile: quantro_1.43.0.tar.gz PackageFileSize: 2.637 MiB