Package: quantro Version: 1.43.0 Command: /Library/Frameworks/R.framework/Resources/bin/R CMD INSTALL quantro StartedAt: 2025-07-07 15:37:33 -0400 (Mon, 07 Jul 2025) EndedAt: 2025-07-07 15:38:35 -0400 (Mon, 07 Jul 2025) EllapsedTime: 62.7 seconds RetCode: 0 Status: OK