Package: quantro Version: 1.43.0 Command: /Library/Frameworks/R.framework/Resources/bin/R CMD build --keep-empty-dirs --no-resave-data quantro StartedAt: 2025-07-07 18:07:01 -0400 (Mon, 07 Jul 2025) EndedAt: 2025-07-07 18:09:03 -0400 (Mon, 07 Jul 2025) EllapsedTime: 122.3 seconds RetCode: 0 Status: OK PackageFile: quantro_1.43.0.tar.gz PackageFileSize: 2.779 MiB