Package: quantro Version: 1.43.0 Command: rm -rf quantro.buildbin-libdir && mkdir quantro.buildbin-libdir && /Users/biocbuild/BBS/utils/build-universal.sh quantro_1.43.0.tar.gz /Library/Frameworks/R.framework/Resources/bin/R quantro.buildbin-libdir StartedAt: 2025-07-08 01:09:20 -0400 (Tue, 08 Jul 2025) EndedAt: 2025-07-08 01:10:26 -0400 (Tue, 08 Jul 2025) EllapsedTime: 65.8 seconds RetCode: 0 Status: OK PackageFile: quantro_1.43.0.tgz PackageFileSize: 3.133 MiB