Package: quantiseqr Version: 1.17.0 Command: rm -rf quantiseqr.buildbin-libdir && mkdir quantiseqr.buildbin-libdir && F:\biocbuild\bbs-3.22-bioc\R\bin\R.exe CMD INSTALL --build --library=quantiseqr.buildbin-libdir quantiseqr_1.17.0.tar.gz StartedAt: 2025-07-25 10:01:01 -0400 (Fri, 25 Jul 2025) EndedAt: 2025-07-25 10:01:34 -0400 (Fri, 25 Jul 2025) EllapsedTime: 33.8 seconds RetCode: 0 Status: OK PackageFile: quantiseqr_1.17.0.zip PackageFileSize: 2.518 MiB