Package: qsvaR Version: 1.13.0 Command: /home/biocbuild/R/R/bin/R CMD INSTALL qsvaR StartedAt: 2025-07-21 20:52:50 -0000 (Mon, 21 Jul 2025) EndedAt: 2025-07-21 20:53:30 -0000 (Mon, 21 Jul 2025) EllapsedTime: 39.6 seconds RetCode: 0 Status: OK