Package: qsvaR Version: 1.13.0 Command: /home/biocbuild/R/R/bin/R CMD build --keep-empty-dirs --no-resave-data qsvaR StartedAt: 2025-07-22 02:03:28 -0000 (Tue, 22 Jul 2025) EndedAt: 2025-07-22 02:07:00 -0000 (Tue, 22 Jul 2025) EllapsedTime: 212.1 seconds RetCode: 0 Status: OK PackageFile: qsvaR_1.13.0.tar.gz PackageFileSize: 3.771 MiB