Package: qsvaR Version: 1.13.0 Command: /Library/Frameworks/R.framework/Resources/bin/R CMD INSTALL qsvaR StartedAt: 2025-07-22 15:24:43 -0400 (Tue, 22 Jul 2025) EndedAt: 2025-07-22 15:25:23 -0400 (Tue, 22 Jul 2025) EllapsedTime: 39.6 seconds RetCode: 0 Status: OK