Package: qsvaR Version: 1.13.0 Command: /Library/Frameworks/R.framework/Resources/bin/R CMD build --keep-empty-dirs --no-resave-data qsvaR StartedAt: 2025-07-22 18:03:41 -0400 (Tue, 22 Jul 2025) EndedAt: 2025-07-22 18:10:48 -0400 (Tue, 22 Jul 2025) EllapsedTime: 426.8 seconds RetCode: 0 Status: OK PackageFile: qsvaR_1.13.0.tar.gz PackageFileSize: 3.809 MiB