Package: qsvaR Version: 1.13.0 Command: rm -rf qsvaR.buildbin-libdir && mkdir qsvaR.buildbin-libdir && /Users/biocbuild/BBS/utils/build-universal.sh qsvaR_1.13.0.tar.gz /Library/Frameworks/R.framework/Resources/bin/R qsvaR.buildbin-libdir StartedAt: 2025-07-23 01:23:02 -0400 (Wed, 23 Jul 2025) EndedAt: 2025-07-23 01:23:47 -0400 (Wed, 23 Jul 2025) EllapsedTime: 45.2 seconds RetCode: 0 Status: OK PackageFile: qsvaR_1.13.0.tgz PackageFileSize: 3.833 MiB