Package: qsvaR Version: 1.13.0 Command: /Library/Frameworks/R.framework/Resources/bin/R CMD INSTALL qsvaR StartedAt: 2025-07-22 15:15:05 -0400 (Tue, 22 Jul 2025) EndedAt: 2025-07-22 15:15:17 -0400 (Tue, 22 Jul 2025) EllapsedTime: 12.1 seconds RetCode: 0 Status: OK