Package: qsvaR Version: 1.13.0 Maintainer: Hedia Tnani MaintainerEmail: hediatnani0 at gmail.com git_url: https://git.bioconductor.org/packages/qsvaR git_branch: devel git_last_commit: d679ecb git_last_commit_date: 2025-04-15 12:48:19 -0400 (Tue, 15 Apr 2025)