Package: qsmooth Version: 1.25.0 Command: rm -rf qsmooth.buildbin-libdir && mkdir qsmooth.buildbin-libdir && /Users/biocbuild/BBS/utils/build-universal.sh qsmooth_1.25.0.tar.gz /Library/Frameworks/R.framework/Resources/bin/R qsmooth.buildbin-libdir StartedAt: 2025-06-29 22:29:30 -0400 (Sun, 29 Jun 2025) EndedAt: 2025-06-29 22:29:44 -0400 (Sun, 29 Jun 2025) EllapsedTime: 14.3 seconds RetCode: 0 Status: OK PackageFile: qsmooth_1.25.0.tgz PackageFileSize: 1.471 MiB