Package: qsea Version: 1.35.0 Command: /home/biocbuild/R/R/bin/R CMD INSTALL qsea StartedAt: 2025-07-10 21:35:05 -0000 (Thu, 10 Jul 2025) EndedAt: 2025-07-10 21:35:48 -0000 (Thu, 10 Jul 2025) EllapsedTime: 42.4 seconds RetCode: 0 Status: OK