Package: qsea Version: 1.35.0 Command: /home/biocbuild/R/R/bin/R CMD check --install=check:qsea.install-out.txt --library=/home/biocbuild/R/R/site-library --no-vignettes --timings qsea_1.35.0.tar.gz StartedAt: 2025-07-15 10:50:36 -0000 (Tue, 15 Jul 2025) EndedAt: 2025-07-15 10:56:17 -0000 (Tue, 15 Jul 2025) EllapsedTime: 341.4 seconds RetCode: 0 Status: WARNINGS CheckDir: qsea.Rcheck Warnings: 1