Package: qsea Version: 1.35.0 Command: rm -rf qsea.buildbin-libdir && mkdir qsea.buildbin-libdir && F:\biocbuild\bbs-3.22-bioc\R\bin\R.exe CMD INSTALL --build --library=qsea.buildbin-libdir qsea_1.35.0.tar.gz StartedAt: 2025-07-22 09:51:09 -0400 (Tue, 22 Jul 2025) EndedAt: 2025-07-22 09:52:12 -0400 (Tue, 22 Jul 2025) EllapsedTime: 63.5 seconds RetCode: 0 Status: OK PackageFile: qsea_1.35.0.zip PackageFileSize: 920.6 KiB