Package: qsea Version: 1.35.0 Command: /home/biocbuild/bbs-3.22-bioc/R/bin/R CMD check --install=check:qsea.install-out.txt --library=/home/biocbuild/bbs-3.22-bioc/R/site-library --timings qsea_1.35.0.tar.gz StartedAt: 2025-07-14 01:25:27 -0400 (Mon, 14 Jul 2025) EndedAt: 2025-07-14 01:30:40 -0400 (Mon, 14 Jul 2025) EllapsedTime: 313.3 seconds RetCode: 0 Status: WARNINGS CheckDir: qsea.Rcheck Warnings: 1