############################################################################## ############################################################################## ### ### Running command: ### ### /Library/Frameworks/R.framework/Resources/bin/R CMD INSTALL qsea ### ############################################################################## ############################################################################## * installing to library ‘/Library/Frameworks/R.framework/Versions/4.5-x86_64/Resources/library’ * installing *source* package ‘qsea’ ... ** this is package ‘qsea’ version ‘1.35.0’ ** using staged installation ** libs using C compiler: ‘Apple clang version 14.0.0 (clang-1400.0.29.202)’ using SDK: ‘MacOSX11.3.sdk’ clang -arch x86_64 -I"/Library/Frameworks/R.framework/Resources/include" -DNDEBUG -I/opt/R/x86_64/include -fPIC -falign-functions=64 -Wall -g -O2 -c lm.c -o lm.o lm.c:30:10: fatal error: 'libintl.h' file not found #include ^~~~~~~~~~~ 1 error generated. make: *** [lm.o] Error 1 ERROR: compilation failed for package ‘qsea’ * removing ‘/Library/Frameworks/R.framework/Versions/4.5-x86_64/Resources/library/qsea’