Package: qsea Version: 1.35.0 Command: /Library/Frameworks/R.framework/Resources/bin/R CMD build --keep-empty-dirs --no-resave-data qsea StartedAt: 2025-07-13 17:16:00 -0400 (Sun, 13 Jul 2025) EndedAt: 2025-07-13 17:16:01 -0400 (Sun, 13 Jul 2025) EllapsedTime: 1.0 seconds RetCode: 1 Status: ERROR PackageFile: None PackageFileSize: NA