############################################################################## ############################################################################## ### ### Running command: ### ### /Library/Frameworks/R.framework/Resources/bin/R CMD build --keep-empty-dirs --no-resave-data qsea ### ############################################################################## ############################################################################## * checking for file ‘qsea/DESCRIPTION’ ... OK * preparing ‘qsea’: * checking DESCRIPTION meta-information ... OK * cleaning src * installing the package to build vignettes ----------------------------------- * installing *source* package ‘qsea’ ... ** this is package ‘qsea’ version ‘1.35.0’ ** using staged installation ** libs using C compiler: ‘Apple clang version 15.0.0 (clang-1500.1.0.2.5)’ using SDK: ‘MacOSX11.3.sdk’ clang -arch arm64 -std=gnu2x -I"/Library/Frameworks/R.framework/Resources/include" -DNDEBUG -I/opt/R/arm64/include -fPIC -falign-functions=64 -Wall -g -O2 -c lm.c -o lm.o lm.c:30:10: fatal error: 'libintl.h' file not found #include ^~~~~~~~~~~ 1 error generated. make: *** [lm.o] Error 1 ERROR: compilation failed for package ‘qsea’ * removing ‘/private/var/folders/r0/l4fjk6cj5xj0j3brt4bplpl40000gt/T/RtmpQOUdwz/Rinstc9837c224ed1/qsea’ ----------------------------------- ERROR: package installation failed