Package: qsea Version: 1.35.0 Maintainer: Matthias Lienhard MaintainerEmail: lienhard at molgen.mpg.de git_url: https://git.bioconductor.org/packages/qsea git_branch: devel git_last_commit: f21c202 git_last_commit_date: 2025-04-15 11:03:07 -0400 (Tue, 15 Apr 2025)