Package: qpgraph Version: 2.43.0 Command: F:\biocbuild\bbs-3.22-bioc\R\bin\R.exe CMD INSTALL qpgraph StartedAt: 2025-07-13 16:13:46 -0400 (Sun, 13 Jul 2025) EndedAt: 2025-07-13 16:15:26 -0400 (Sun, 13 Jul 2025) EllapsedTime: 99.4 seconds RetCode: 0 Status: OK