Package: qpgraph Version: 2.43.0 Command: rm -rf qpgraph.buildbin-libdir && mkdir qpgraph.buildbin-libdir && F:\biocbuild\bbs-3.22-bioc\R\bin\R.exe CMD INSTALL --build --library=qpgraph.buildbin-libdir qpgraph_2.43.0.tar.gz StartedAt: 2025-07-14 09:42:17 -0400 (Mon, 14 Jul 2025) EndedAt: 2025-07-14 09:44:12 -0400 (Mon, 14 Jul 2025) EllapsedTime: 115.3 seconds RetCode: 0 Status: OK PackageFile: qpgraph_2.43.0.zip PackageFileSize: 4.092 MiB