Package: qpcrNorm Version: 1.67.0 Command: /home/biocbuild/R/R/bin/R CMD INSTALL qpcrNorm StartedAt: 2025-07-24 21:13:35 -0000 (Thu, 24 Jul 2025) EndedAt: 2025-07-24 21:13:44 -0000 (Thu, 24 Jul 2025) EllapsedTime: 8.9 seconds RetCode: 0 Status: OK